Package: DelayedArray Version: 0.34.1 Command: /Library/Frameworks/R.framework/Resources/bin/R CMD build --keep-empty-dirs --no-resave-data DelayedArray StartedAt: 2025-10-02 18:27:55 -0400 (Thu, 02 Oct 2025) EndedAt: 2025-10-02 18:30:39 -0400 (Thu, 02 Oct 2025) EllapsedTime: 164.2 seconds RetCode: 0 Status: OK PackageFile: DelayedArray_0.34.1.tar.gz PackageFileSize: 796.1 KiB