Package: DelayedArray Version: 0.33.6 Command: /Library/Frameworks/R.framework/Resources/bin/R CMD INSTALL DelayedArray StartedAt: 2025-02-19 15:03:22 -0500 (Wed, 19 Feb 2025) EndedAt: 2025-02-19 15:03:36 -0500 (Wed, 19 Feb 2025) EllapsedTime: 14.4 seconds RetCode: 0 Status: OK