Package: DelayedArray Version: 0.33.6 Command: /Library/Frameworks/R.framework/Resources/bin/R CMD build --keep-empty-dirs --no-resave-data DelayedArray StartedAt: 2025-02-19 16:07:02 -0500 (Wed, 19 Feb 2025) EndedAt: 2025-02-19 16:07:29 -0500 (Wed, 19 Feb 2025) EllapsedTime: 27.3 seconds RetCode: 0 Status: OK PackageFile: DelayedArray_0.33.6.tar.gz PackageFileSize: 796.6 KiB