Package: DelayedArray Version: 0.33.6 Command: rm -rf DelayedArray.buildbin-libdir && mkdir DelayedArray.buildbin-libdir && /Users/biocbuild/BBS/utils/build-universal.sh DelayedArray_0.33.6.tar.gz /Library/Frameworks/R.framework/Resources/bin/R DelayedArray.buildbin-libdir StartedAt: 2025-02-20 22:16:23 -0500 (Thu, 20 Feb 2025) EndedAt: 2025-02-20 22:16:36 -0500 (Thu, 20 Feb 2025) EllapsedTime: 13.3 seconds RetCode: 0 Status: OK PackageFile: DelayedArray_0.33.6.tgz PackageFileSize: 2.441 MiB