Package: DelayedArray Version: 0.33.6 Maintainer: Hervé Pagès MaintainerEmail: hpages.on.github at gmail.com git_url: https://git.bioconductor.org/packages/DelayedArray git_branch: devel git_last_commit: e170345 git_last_commit_date: 2025-02-13 15:50:59 -0500 (Thu, 13 Feb 2025)