Package: DegNorm Version: 1.17.0 Command: chmod a+r DegNorm -R && E:\biocbuild\bbs-3.21-bioc\R\bin\R.exe CMD build --keep-empty-dirs --no-resave-data DegNorm StartedAt: 2025-02-19 18:17:09 -0500 (Wed, 19 Feb 2025) EndedAt: 2025-02-19 18:23:11 -0500 (Wed, 19 Feb 2025) EllapsedTime: 361.7 seconds RetCode: 0 Status: OK PackageFile: DegNorm_1.17.0.tar.gz PackageFileSize: 3.203 MiB