Package: DegNorm Version: 1.17.0 Command: rm -rf DegNorm.buildbin-libdir && mkdir DegNorm.buildbin-libdir && E:\biocbuild\bbs-3.21-bioc\R\bin\R.exe CMD INSTALL --build --library=DegNorm.buildbin-libdir DegNorm_1.17.0.tar.gz StartedAt: 2025-02-20 07:37:51 -0500 (Thu, 20 Feb 2025) EndedAt: 2025-02-20 07:40:49 -0500 (Thu, 20 Feb 2025) EllapsedTime: 178.4 seconds RetCode: 0 Status: OK PackageFile: DegNorm_1.17.0.zip PackageFileSize: 3.423 MiB