Package: DegNorm Version: 1.17.0 Command: /home/biocbuild/bbs-3.21-bioc/R/bin/R CMD build --keep-empty-dirs --no-resave-data DegNorm StartedAt: 2025-02-19 16:56:04 -0500 (Wed, 19 Feb 2025) EndedAt: 2025-02-19 17:00:57 -0500 (Wed, 19 Feb 2025) EllapsedTime: 292.3 seconds RetCode: 0 Status: OK PackageFile: DegNorm_1.17.0.tar.gz PackageFileSize: 3.368 MiB