Package: DegNorm Version: 1.17.0 Command: /Library/Frameworks/R.framework/Resources/bin/R CMD INSTALL DegNorm StartedAt: 2025-02-20 15:24:52 -0500 (Thu, 20 Feb 2025) EndedAt: 2025-02-20 15:25:11 -0500 (Thu, 20 Feb 2025) EllapsedTime: 19.2 seconds RetCode: 0 Status: OK