Package: DegNorm Version: 1.17.0 Command: /Library/Frameworks/R.framework/Resources/bin/R CMD check --install=check:DegNorm.install-out.txt --library=/Library/Frameworks/R.framework/Resources/library --no-vignettes --timings DegNorm_1.17.0.tar.gz StartedAt: 2025-02-20 18:54:56 -0500 (Thu, 20 Feb 2025) EndedAt: 2025-02-20 18:57:27 -0500 (Thu, 20 Feb 2025) EllapsedTime: 151.7 seconds RetCode: 0 Status: OK CheckDir: DegNorm.Rcheck Warnings: 0