Package: DegCre Version: 1.3.0 Command: /Library/Frameworks/R.framework/Resources/bin/R CMD INSTALL DegCre StartedAt: 2025-02-20 15:18:49 -0500 (Thu, 20 Feb 2025) EndedAt: 2025-02-20 15:19:45 -0500 (Thu, 20 Feb 2025) EllapsedTime: 55.2 seconds RetCode: 0 Status: OK