Package: DegCre Version: 1.3.0 Command: /Library/Frameworks/R.framework/Resources/bin/R CMD build --keep-empty-dirs --no-resave-data DegCre StartedAt: 2025-02-20 16:26:28 -0500 (Thu, 20 Feb 2025) EndedAt: 2025-02-20 16:28:01 -0500 (Thu, 20 Feb 2025) EllapsedTime: 92.7 seconds RetCode: 0 Status: OK PackageFile: DegCre_1.3.0.tar.gz PackageFileSize: 2.422 MiB