Package: DegCre Version: 1.3.0 Command: /Library/Frameworks/R.framework/Resources/bin/R CMD build --keep-empty-dirs --no-resave-data DegCre StartedAt: 2025-02-20 16:06:32 -0500 (Thu, 20 Feb 2025) EndedAt: 2025-02-20 16:07:06 -0500 (Thu, 20 Feb 2025) EllapsedTime: 33.4 seconds RetCode: 0 Status: OK PackageFile: DegCre_1.3.0.tar.gz PackageFileSize: 2.423 MiB