Package: DeepTarget Version: 1.1.0 Command: rm -rf DeepTarget.buildbin-libdir && mkdir DeepTarget.buildbin-libdir && E:\biocbuild\bbs-3.21-bioc\R\bin\R.exe CMD INSTALL --build --library=DeepTarget.buildbin-libdir DeepTarget_1.1.0.tar.gz StartedAt: 2025-02-19 07:17:54 -0500 (Wed, 19 Feb 2025) EndedAt: 2025-02-19 07:18:35 -0500 (Wed, 19 Feb 2025) EllapsedTime: 41.3 seconds RetCode: 0 Status: OK PackageFile: DeepTarget_1.1.0.zip PackageFileSize: 2.383 MiB