Package: DeepPINCS Version: 1.15.0 Command: chmod a+r DeepPINCS -R && E:\biocbuild\bbs-3.21-bioc\R\bin\R.exe CMD build --keep-empty-dirs --no-resave-data DeepPINCS StartedAt: 2025-02-20 18:16:40 -0500 (Thu, 20 Feb 2025) EndedAt: 2025-02-20 18:18:44 -0500 (Thu, 20 Feb 2025) EllapsedTime: 124.0 seconds RetCode: 1 Status: ERROR PackageFile: None PackageFileSize: NA