Package: DeepPINCS Version: 1.15.0 Command: /home/biocbuild/bbs-3.21-bioc/R/bin/R CMD build --keep-empty-dirs --no-resave-data DeepPINCS StartedAt: 2025-02-20 17:09:59 -0500 (Thu, 20 Feb 2025) EndedAt: 2025-02-20 17:10:27 -0500 (Thu, 20 Feb 2025) EllapsedTime: 28.0 seconds RetCode: 0 Status: OK PackageFile: DeepPINCS_1.15.0.tar.gz PackageFileSize: 2.438 MiB