Package: DeepPINCS Version: 1.15.0 Command: /Library/Frameworks/R.framework/Resources/bin/R CMD build --keep-empty-dirs --no-resave-data DeepPINCS StartedAt: 2025-02-20 16:25:55 -0500 (Thu, 20 Feb 2025) EndedAt: 2025-02-20 16:27:02 -0500 (Thu, 20 Feb 2025) EllapsedTime: 67.5 seconds RetCode: 1 Status: ERROR PackageFile: None PackageFileSize: NA