Package: DeepPINCS Version: 1.15.0 Command: /Library/Frameworks/R.framework/Resources/bin/R CMD build --keep-empty-dirs --no-resave-data DeepPINCS StartedAt: 2025-02-20 16:05:48 -0500 (Thu, 20 Feb 2025) EndedAt: 2025-02-20 16:06:10 -0500 (Thu, 20 Feb 2025) EllapsedTime: 22.2 seconds RetCode: 1 Status: ERROR PackageFile: None PackageFileSize: NA