Package: DeconRNASeq Version: 1.49.0 Command: /Library/Frameworks/R.framework/Resources/bin/R CMD INSTALL DeconRNASeq StartedAt: 2025-02-20 15:08:26 -0500 (Thu, 20 Feb 2025) EndedAt: 2025-02-20 15:08:50 -0500 (Thu, 20 Feb 2025) EllapsedTime: 24.8 seconds RetCode: 0 Status: OK