Package: DeconRNASeq Version: 1.49.0 Command: /Library/Frameworks/R.framework/Resources/bin/R CMD check --install=check:DeconRNASeq.install-out.txt --library=/Library/Frameworks/R.framework/Resources/library --no-vignettes --timings DeconRNASeq_1.49.0.tar.gz StartedAt: 2025-02-20 19:54:02 -0500 (Thu, 20 Feb 2025) EndedAt: 2025-02-20 19:54:47 -0500 (Thu, 20 Feb 2025) EllapsedTime: 44.8 seconds RetCode: 0 Status: OK CheckDir: DeconRNASeq.Rcheck Warnings: 0