Package: DeProViR Version: 1.3.0 Command: chmod a+r DeProViR -R && E:\biocbuild\bbs-3.21-bioc\R\bin\R.exe CMD build --keep-empty-dirs --no-resave-data DeProViR StartedAt: 2025-02-19 18:20:17 -0500 (Wed, 19 Feb 2025) EndedAt: 2025-02-19 18:27:20 -0500 (Wed, 19 Feb 2025) EllapsedTime: 422.5 seconds RetCode: 1 Status: ERROR PackageFile: None PackageFileSize: NA