Package: DeProViR Version: 1.3.0 Command: /home/biocbuild/bbs-3.21-bioc/R/bin/R CMD INSTALL DeProViR StartedAt: 2025-02-20 15:20:12 -0500 (Thu, 20 Feb 2025) EndedAt: 2025-02-20 15:20:24 -0500 (Thu, 20 Feb 2025) EllapsedTime: 11.2 seconds RetCode: 0 Status: OK