Package: DeMAND Version: 1.37.0 Command: E:\biocbuild\bbs-3.21-bioc\R\bin\R.exe CMD INSTALL DeMAND StartedAt: 2025-02-20 15:18:09 -0500 (Thu, 20 Feb 2025) EndedAt: 2025-02-20 15:18:21 -0500 (Thu, 20 Feb 2025) EllapsedTime: 11.8 seconds RetCode: 0 Status: OK