Package: DeMAND Version: 1.37.0 Command: /home/biocbuild/bbs-3.21-bioc/R/bin/R CMD INSTALL DeMAND StartedAt: 2025-02-20 15:06:15 -0500 (Thu, 20 Feb 2025) EndedAt: 2025-02-20 15:06:17 -0500 (Thu, 20 Feb 2025) EllapsedTime: 2.4 seconds RetCode: 0 Status: OK