Package: DeMAND Version: 1.37.0 Command: /home/biocbuild/bbs-3.21-bioc/R/bin/R CMD check --install=check:DeMAND.install-out.txt --library=/home/biocbuild/bbs-3.21-bioc/R/site-library --timings DeMAND_1.37.0.tar.gz StartedAt: 2025-02-19 21:35:20 -0500 (Wed, 19 Feb 2025) EndedAt: 2025-02-19 21:35:41 -0500 (Wed, 19 Feb 2025) EllapsedTime: 21.0 seconds RetCode: 0 Status: OK CheckDir: DeMAND.Rcheck Warnings: 0