Package: DeMAND Version: 1.37.0 Command: /Library/Frameworks/R.framework/Resources/bin/R CMD check --install=check:DeMAND.install-out.txt --library=/Library/Frameworks/R.framework/Resources/library --no-vignettes --timings DeMAND_1.37.0.tar.gz StartedAt: 2025-02-19 18:58:59 -0500 (Wed, 19 Feb 2025) EndedAt: 2025-02-19 18:59:11 -0500 (Wed, 19 Feb 2025) EllapsedTime: 12.1 seconds RetCode: 0 Status: OK CheckDir: DeMAND.Rcheck Warnings: 0