Package: DTA Version: 2.53.0 Command: E:\biocbuild\bbs-3.21-bioc\R\bin\R.exe CMD INSTALL DTA StartedAt: 2025-02-19 15:20:47 -0500 (Wed, 19 Feb 2025) EndedAt: 2025-02-19 15:21:06 -0500 (Wed, 19 Feb 2025) EllapsedTime: 19.0 seconds RetCode: 0 Status: OK