Package: DTA Version: 2.53.0 Command: /Library/Frameworks/R.framework/Resources/bin/R CMD INSTALL DTA StartedAt: 2025-02-19 15:01:23 -0500 (Wed, 19 Feb 2025) EndedAt: 2025-02-19 15:01:27 -0500 (Wed, 19 Feb 2025) EllapsedTime: 4.0 seconds RetCode: 0 Status: OK