Package: DTA Version: 2.53.0 Command: /Library/Frameworks/R.framework/Resources/bin/R CMD build --keep-empty-dirs --no-resave-data DTA StartedAt: 2025-02-19 16:12:53 -0500 (Wed, 19 Feb 2025) EndedAt: 2025-02-19 16:14:34 -0500 (Wed, 19 Feb 2025) EllapsedTime: 101.1 seconds RetCode: 0 Status: OK PackageFile: DTA_2.53.0.tar.gz PackageFileSize: 9.051 MiB