Package: DSS Version: 2.55.0 Command: E:\biocbuild\bbs-3.21-bioc\R\bin\R.exe CMD check --no-multiarch --install=check:DSS.install-out.txt --library=E:\biocbuild\bbs-3.21-bioc\R\library --no-vignettes --timings DSS_2.55.0.tar.gz StartedAt: 2025-02-21 00:53:32 -0500 (Fri, 21 Feb 2025) EndedAt: 2025-02-21 00:58:53 -0500 (Fri, 21 Feb 2025) EllapsedTime: 321.6 seconds RetCode: 0 Status: WARNINGS CheckDir: DSS.Rcheck Warnings: 1