Package: DRIMSeq Version: 1.35.0 Command: E:\biocbuild\bbs-3.21-bioc\R\bin\R.exe CMD INSTALL DRIMSeq StartedAt: 2025-02-20 15:37:33 -0500 (Thu, 20 Feb 2025) EndedAt: 2025-02-20 15:38:33 -0500 (Thu, 20 Feb 2025) EllapsedTime: 59.3 seconds RetCode: 0 Status: OK