Package: DRIMSeq Version: 1.35.0 Command: chmod a+r DRIMSeq -R && E:\biocbuild\bbs-3.21-bioc\R\bin\R.exe CMD build --keep-empty-dirs --no-resave-data DRIMSeq StartedAt: 2025-02-20 18:29:49 -0500 (Thu, 20 Feb 2025) EndedAt: 2025-02-20 18:33:27 -0500 (Thu, 20 Feb 2025) EllapsedTime: 217.6 seconds RetCode: 0 Status: OK PackageFile: DRIMSeq_1.35.0.tar.gz PackageFileSize: 484.1 KiB