Package: DRIMSeq Version: 1.35.0 Command: rm -rf DRIMSeq.buildbin-libdir && mkdir DRIMSeq.buildbin-libdir && E:\biocbuild\bbs-3.21-bioc\R\bin\R.exe CMD INSTALL --build --library=DRIMSeq.buildbin-libdir DRIMSeq_1.35.0.tar.gz StartedAt: 2025-02-21 08:00:17 -0500 (Fri, 21 Feb 2025) EndedAt: 2025-02-21 08:01:14 -0500 (Fri, 21 Feb 2025) EllapsedTime: 57.1 seconds RetCode: 0 Status: OK PackageFile: DRIMSeq_1.35.0.zip PackageFileSize: 787.6 KiB