Package: DRIMSeq Version: 1.35.0 Command: /home/biocbuild/bbs-3.21-bioc/R/bin/R CMD INSTALL DRIMSeq StartedAt: 2025-02-20 15:45:04 -0500 (Thu, 20 Feb 2025) EndedAt: 2025-02-20 15:45:17 -0500 (Thu, 20 Feb 2025) EllapsedTime: 13.0 seconds RetCode: 0 Status: OK