Package: DRIMSeq Version: 1.35.0 Command: /home/biocbuild/bbs-3.21-bioc/R/bin/R CMD build --keep-empty-dirs --no-resave-data DRIMSeq StartedAt: 2025-02-20 17:18:53 -0500 (Thu, 20 Feb 2025) EndedAt: 2025-02-20 17:21:10 -0500 (Thu, 20 Feb 2025) EllapsedTime: 137.2 seconds RetCode: 0 Status: OK PackageFile: DRIMSeq_1.35.0.tar.gz PackageFileSize: 481.4 KiB