Package: DRIMSeq Version: 1.35.0 Command: rm -rf DRIMSeq.buildbin-libdir && mkdir DRIMSeq.buildbin-libdir && /Users/biocbuild/BBS/utils/build-universal.sh DRIMSeq_1.35.0.tar.gz /Library/Frameworks/R.framework/Resources/bin/R DRIMSeq.buildbin-libdir StartedAt: 2025-02-21 00:28:46 -0500 (Fri, 21 Feb 2025) EndedAt: 2025-02-21 00:29:05 -0500 (Fri, 21 Feb 2025) EllapsedTime: 19.6 seconds RetCode: 0 Status: OK PackageFile: DRIMSeq_1.35.0.tgz PackageFileSize: 784.7 KiB