Package: DRIMSeq Version: 1.36.0 Command: /home/biocbuild/R/R/bin/R CMD build --keep-empty-dirs --no-resave-data DRIMSeq StartedAt: 2025-10-03 00:33:18 -0000 (Fri, 03 Oct 2025) EndedAt: 2025-10-03 00:36:56 -0000 (Fri, 03 Oct 2025) EllapsedTime: 217.1 seconds RetCode: 0 Status: OK PackageFile: DRIMSeq_1.36.0.tar.gz PackageFileSize: 473.4 KiB