Package: DRIMSeq Version: 1.36.0 Command: /Library/Frameworks/R.framework/Resources/bin/R CMD INSTALL DRIMSeq StartedAt: 2025-10-13 16:57:08 -0400 (Mon, 13 Oct 2025) EndedAt: 2025-10-13 16:57:25 -0400 (Mon, 13 Oct 2025) EllapsedTime: 16.2 seconds RetCode: 0 Status: OK