Package: DOSE Version: 4.1.0 Command: chmod a+r DOSE -R && E:\biocbuild\bbs-3.21-bioc\R\bin\R.exe CMD build --keep-empty-dirs --no-resave-data DOSE StartedAt: 2025-02-20 18:29:31 -0500 (Thu, 20 Feb 2025) EndedAt: 2025-02-20 18:30:24 -0500 (Thu, 20 Feb 2025) EllapsedTime: 52.9 seconds RetCode: 0 Status: OK PackageFile: DOSE_4.1.0.tar.gz PackageFileSize: 5.479 MiB