Package: DOSE Version: 4.1.0 Command: rm -rf DOSE.buildbin-libdir && mkdir DOSE.buildbin-libdir && E:\biocbuild\bbs-3.21-bioc\R\bin\R.exe CMD INSTALL --build --library=DOSE.buildbin-libdir DOSE_4.1.0.tar.gz StartedAt: 2025-02-21 08:00:03 -0500 (Fri, 21 Feb 2025) EndedAt: 2025-02-21 08:00:47 -0500 (Fri, 21 Feb 2025) EllapsedTime: 43.8 seconds RetCode: 0 Status: OK PackageFile: DOSE_4.1.0.zip PackageFileSize: 5.866 MiB