Package: DOSE Version: 4.1.0 Command: rm -rf DOSE.buildbin-libdir && mkdir DOSE.buildbin-libdir && /Users/biocbuild/BBS/utils/build-universal.sh DOSE_4.1.0.tar.gz /Library/Frameworks/R.framework/Resources/bin/R DOSE.buildbin-libdir StartedAt: 2025-02-21 00:28:42 -0500 (Fri, 21 Feb 2025) EndedAt: 2025-02-21 00:29:15 -0500 (Fri, 21 Feb 2025) EllapsedTime: 32.5 seconds RetCode: 0 Status: OK PackageFile: DOSE_4.1.0.tgz PackageFileSize: 5.863 MiB