Package: DOSE Version: 4.1.0 Command: /Library/Frameworks/R.framework/Resources/bin/R CMD INSTALL DOSE StartedAt: 2025-02-20 15:19:59 -0500 (Thu, 20 Feb 2025) EndedAt: 2025-02-20 15:20:09 -0500 (Thu, 20 Feb 2025) EllapsedTime: 10.4 seconds RetCode: 0 Status: OK