Package: DOSE Version: 4.1.0 Command: /Library/Frameworks/R.framework/Resources/bin/R CMD check --install=check:DOSE.install-out.txt --library=/Library/Frameworks/R.framework/Resources/library --no-vignettes --timings DOSE_4.1.0.tar.gz StartedAt: 2025-02-20 19:03:33 -0500 (Thu, 20 Feb 2025) EndedAt: 2025-02-20 19:04:44 -0500 (Thu, 20 Feb 2025) EllapsedTime: 70.8 seconds RetCode: 0 Status: OK CheckDir: DOSE.Rcheck Warnings: 0