Package: DOSE Version: 4.1.0 Command: /Library/Frameworks/R.framework/Resources/bin/R CMD build --keep-empty-dirs --no-resave-data DOSE StartedAt: 2025-02-20 16:11:55 -0500 (Thu, 20 Feb 2025) EndedAt: 2025-02-20 16:12:09 -0500 (Thu, 20 Feb 2025) EllapsedTime: 14.1 seconds RetCode: 0 Status: OK PackageFile: DOSE_4.1.0.tar.gz PackageFileSize: 5.479 MiB