Package: DNAshapeR Version: 1.35.0 Command: /Library/Frameworks/R.framework/Resources/bin/R CMD INSTALL DNAshapeR StartedAt: 2025-02-19 15:05:49 -0500 (Wed, 19 Feb 2025) EndedAt: 2025-02-19 15:06:02 -0500 (Wed, 19 Feb 2025) EllapsedTime: 13.3 seconds RetCode: 0 Status: OK