Package: DNAfusion Version: 1.9.0 Command: chmod a+r DNAfusion -R && E:\biocbuild\bbs-3.21-bioc\R\bin\R.exe CMD build --keep-empty-dirs --no-resave-data DNAfusion StartedAt: 2025-02-19 18:27:21 -0500 (Wed, 19 Feb 2025) EndedAt: 2025-02-19 18:30:32 -0500 (Wed, 19 Feb 2025) EllapsedTime: 191.1 seconds RetCode: 0 Status: OK PackageFile: DNAfusion_1.9.0.tar.gz PackageFileSize: 6.298 MiB