Package: DNAfusion Version: 1.9.0 Command: /home/biocbuild/bbs-3.21-bioc/R/bin/R CMD check --install=check:DNAfusion.install-out.txt --library=/home/biocbuild/bbs-3.21-bioc/R/site-library --timings DNAfusion_1.9.0.tar.gz StartedAt: 2025-02-20 21:40:00 -0500 (Thu, 20 Feb 2025) EndedAt: 2025-02-20 21:49:52 -0500 (Thu, 20 Feb 2025) EllapsedTime: 592.9 seconds RetCode: 0 Status: OK CheckDir: DNAfusion.Rcheck Warnings: 0