Package: DNAfusion Version: 1.9.0 Command: /home/biocbuild/bbs-3.21-bioc/R/bin/R CMD build --keep-empty-dirs --no-resave-data DNAfusion StartedAt: 2025-02-20 17:18:15 -0500 (Thu, 20 Feb 2025) EndedAt: 2025-02-20 17:20:53 -0500 (Thu, 20 Feb 2025) EllapsedTime: 158.2 seconds RetCode: 0 Status: OK PackageFile: DNAfusion_1.9.0.tar.gz PackageFileSize: 6.298 MiB