Package: DNAcopy Version: 1.81.0 Command: E:\biocbuild\bbs-3.21-bioc\R\bin\R.exe CMD INSTALL DNAcopy StartedAt: 2025-02-20 15:16:40 -0500 (Thu, 20 Feb 2025) EndedAt: 2025-02-20 15:17:10 -0500 (Thu, 20 Feb 2025) EllapsedTime: 29.9 seconds RetCode: 0 Status: OK