Package: DNAcopy Version: 1.81.0 Command: rm -rf DNAcopy.buildbin-libdir && mkdir DNAcopy.buildbin-libdir && E:\biocbuild\bbs-3.21-bioc\R\bin\R.exe CMD INSTALL --build --library=DNAcopy.buildbin-libdir DNAcopy_1.81.0.tar.gz StartedAt: 2025-02-21 07:59:46 -0500 (Fri, 21 Feb 2025) EndedAt: 2025-02-21 08:00:02 -0500 (Fri, 21 Feb 2025) EllapsedTime: 16.1 seconds RetCode: 0 Status: OK PackageFile: DNAcopy_1.81.0.zip PackageFileSize: 552.1 KiB